Package: SingleMoleculeFootprintingData Version: 1.2.0 Command: /home/biocbuild/bbs-3.14-bioc/R/bin/R CMD check --install=check:SingleMoleculeFootprintingData.install-out.txt --library=/home/biocbuild/bbs-3.14-bioc/R/library --no-vignettes --timings SingleMoleculeFootprintingData_1.2.0.tar.gz StartedAt: 2022-04-13 11:49:27 -0400 (Wed, 13 Apr 2022) EndedAt: 2022-04-13 11:51:15 -0400 (Wed, 13 Apr 2022) EllapsedTime: 107.7 seconds RetCode: 0 Status: OK CheckDir: SingleMoleculeFootprintingData.Rcheck Warnings: 0