git_url: https://git.bioconductor.org/packages/SpikeInSubset git_branch: RELEASE_3_14 git_last_commit: 27fdb7d git_last_commit_date: 2021-10-26 11:41:05 -0400 (Tue, 26 Oct 2021) Package: SpikeInSubset Version: 1.34.0 Maintainer: Rafael A. Irizarry MaintainerEmail: rafa at jhu.edu