Package: TabulaMurisSenisData Version: 1.0.0 Command: /home/biocbuild/bbs-3.14-bioc/R/bin/R CMD check --install=check:TabulaMurisSenisData.install-out.txt --library=/home/biocbuild/bbs-3.14-bioc/R/library --no-vignettes --timings TabulaMurisSenisData_1.0.0.tar.gz StartedAt: 2022-04-13 11:51:30 -0400 (Wed, 13 Apr 2022) EndedAt: 2022-04-13 11:55:02 -0400 (Wed, 13 Apr 2022) EllapsedTime: 212.4 seconds RetCode: 0 Status: OK CheckDir: TabulaMurisSenisData.Rcheck Warnings: 0