Package: TargetScoreData Version: 1.30.0 Command: /home/biocbuild/bbs-3.14-bioc/R/bin/R CMD build --keep-empty-dirs --no-resave-data TargetScoreData StartedAt: 2022-04-13 10:43:53 -0400 (Wed, 13 Apr 2022) EndedAt: 2022-04-13 10:44:21 -0400 (Wed, 13 Apr 2022) EllapsedTime: 28.6 seconds RetCode: 0 Status: OK PackageFile: TargetScoreData_1.30.0.tar.gz PackageFileSize: 206.2 MiB