git_url: https://git.bioconductor.org/packages/affydata git_branch: RELEASE_3_14 git_last_commit: 4b54c12 git_last_commit_date: 2021-10-26 11:38:20 -0400 (Tue, 26 Oct 2021) Package: affydata Version: 1.42.0 Maintainer: Harris Jaffee MaintainerEmail: hj at jhu.edu