git_url: https://git.bioconductor.org/packages/alpineData git_branch: RELEASE_3_14 git_last_commit: 3388cb1 git_last_commit_date: 2021-10-26 12:27:37 -0400 (Tue, 26 Oct 2021) Package: alpineData Version: 1.20.0 Maintainer: Michael Love MaintainerEmail: michaelisaiahlove at gmail.com