Package: aracne.networks Version: 1.20.0 Command: /home/biocbuild/bbs-3.14-bioc/R/bin/R CMD INSTALL aracne.networks StartedAt: 2022-04-13 10:03:36 -0400 (Wed, 13 Apr 2022) EndedAt: 2022-04-13 10:04:10 -0400 (Wed, 13 Apr 2022) EllapsedTime: 34.4 seconds RetCode: 0 Status: OK