git_url: https://git.bioconductor.org/packages/bcellViper git_branch: RELEASE_3_14 git_last_commit: 448a219 git_last_commit_date: 2021-10-26 12:08:40 -0400 (Tue, 26 Oct 2021) Package: bcellViper Version: 1.30.0 Maintainer: Mariano Javier Alvarez MaintainerEmail: malvarez at c2b2.columbia.edu