Package: bcellViper Version: 1.30.0 Command: /home/biocbuild/bbs-3.14-bioc/R/bin/R CMD build --keep-empty-dirs --no-resave-data bcellViper StartedAt: 2022-04-13 10:12:16 -0400 (Wed, 13 Apr 2022) EndedAt: 2022-04-13 10:12:22 -0400 (Wed, 13 Apr 2022) EllapsedTime: 6.0 seconds RetCode: 0 Status: OK PackageFile: bcellViper_1.30.0.tar.gz PackageFileSize: 11.28 MiB