Package: bcellViper Version: 1.30.0 Command: /home/biocbuild/bbs-3.14-bioc/R/bin/R CMD check --install=check:bcellViper.install-out.txt --library=/home/biocbuild/bbs-3.14-bioc/R/library --no-vignettes --timings bcellViper_1.30.0.tar.gz StartedAt: 2022-04-13 11:13:45 -0400 (Wed, 13 Apr 2022) EndedAt: 2022-04-13 11:14:01 -0400 (Wed, 13 Apr 2022) EllapsedTime: 15.3 seconds RetCode: 0 Status: OK CheckDir: bcellViper.Rcheck Warnings: 0