git_url: https://git.bioconductor.org/packages/blimaTestingData git_branch: RELEASE_3_14 git_last_commit: cceadfe git_last_commit_date: 2021-10-26 12:09:17 -0400 (Tue, 26 Oct 2021) Package: blimaTestingData Version: 1.14.0 Maintainer: Vojtech Kulvait MaintainerEmail: kulvait at gmail.com