git_url: https://git.bioconductor.org/packages/bronchialIL13 git_branch: RELEASE_3_14 git_last_commit: 8c12d49 git_last_commit_date: 2021-10-26 11:38:54 -0400 (Tue, 26 Oct 2021) Package: bronchialIL13 Version: 1.32.0 Maintainer: Vince Carey MaintainerEmail: stvjc at channing.harvard.edu