Package: bsseqData Version: 0.32.0 Command: /home/biocbuild/bbs-3.14-bioc/R/bin/R CMD build --keep-empty-dirs --no-resave-data bsseqData StartedAt: 2022-04-13 10:13:20 -0400 (Wed, 13 Apr 2022) EndedAt: 2022-04-13 10:13:27 -0400 (Wed, 13 Apr 2022) EllapsedTime: 7.1 seconds RetCode: 0 Status: OK PackageFile: bsseqData_0.32.0.tar.gz PackageFileSize: 128.4 MiB