Package: bsseqData Version: 0.32.0 Command: /home/biocbuild/bbs-3.14-bioc/R/bin/R CMD INSTALL bsseqData StartedAt: 2022-04-13 10:06:48 -0400 (Wed, 13 Apr 2022) EndedAt: 2022-04-13 10:07:38 -0400 (Wed, 13 Apr 2022) EllapsedTime: 49.4 seconds RetCode: 0 Status: OK