Package: celarefData Version: 1.12.0 Command: /home/biocbuild/bbs-3.14-bioc/R/bin/R CMD check --install=check:celarefData.install-out.txt --library=/home/biocbuild/bbs-3.14-bioc/R/library --no-vignettes --timings celarefData_1.12.0.tar.gz StartedAt: 2022-04-13 11:16:35 -0400 (Wed, 13 Apr 2022) EndedAt: 2022-04-13 11:16:43 -0400 (Wed, 13 Apr 2022) EllapsedTime: 8.0 seconds RetCode: 0 Status: OK CheckDir: celarefData.Rcheck Warnings: 0