git_url: https://git.bioconductor.org/packages/chipseqDBData git_branch: RELEASE_3_14 git_last_commit: a2f5b9b git_last_commit_date: 2021-10-26 12:34:55 -0400 (Tue, 26 Oct 2021) Package: chipseqDBData Version: 1.10.0 Maintainer: Aaron Lun MaintainerEmail: infinite.monkeys.with.keyboards at gmail.com