Package: curatedBreastData Version: 2.22.0 Command: /home/biocbuild/bbs-3.14-bioc/R/bin/R CMD build --keep-empty-dirs --no-resave-data curatedBreastData StartedAt: 2022-04-13 10:17:04 -0400 (Wed, 13 Apr 2022) EndedAt: 2022-04-13 10:18:22 -0400 (Wed, 13 Apr 2022) EllapsedTime: 77.9 seconds RetCode: 0 Status: OK PackageFile: curatedBreastData_2.22.0.tar.gz PackageFileSize: 283.1 MiB