Package: curatedBreastData Version: 2.22.0 Command: /home/biocbuild/bbs-3.14-bioc/R/bin/R CMD check --install=check:curatedBreastData.install-out.txt --library=/home/biocbuild/bbs-3.14-bioc/R/library --no-vignettes --timings curatedBreastData_2.22.0.tar.gz StartedAt: 2022-04-13 11:19:31 -0400 (Wed, 13 Apr 2022) EndedAt: 2022-04-13 11:23:57 -0400 (Wed, 13 Apr 2022) EllapsedTime: 266.2 seconds RetCode: 0 Status: OK CheckDir: curatedBreastData.Rcheck Warnings: 0