git_url: https://git.bioconductor.org/packages/curatedMetagenomicData git_branch: RELEASE_3_14 git_last_commit: 7e9fe2a git_last_commit_date: 2021-12-16 14:37:10 -0400 (Thu, 16 Dec 2021) Package: curatedMetagenomicData Version: 3.2.3 Maintainer: Lucas schiffer MaintainerEmail: schiffer.lucas at gmail.com