Package: estrogen Version: 1.40.0 Command: /home/biocbuild/bbs-3.14-bioc/R/bin/R CMD build --keep-empty-dirs --no-resave-data estrogen StartedAt: 2022-04-13 10:21:20 -0400 (Wed, 13 Apr 2022) EndedAt: 2022-04-13 10:22:22 -0400 (Wed, 13 Apr 2022) EllapsedTime: 62.0 seconds RetCode: 0 Status: OK PackageFile: estrogen_1.40.0.tar.gz PackageFileSize: 25.92 MiB