Package: estrogen Version: 1.40.0 Command: /home/biocbuild/bbs-3.14-bioc/R/bin/R CMD INSTALL estrogen StartedAt: 2022-04-13 10:00:30 -0400 (Wed, 13 Apr 2022) EndedAt: 2022-04-13 10:00:38 -0400 (Wed, 13 Apr 2022) EllapsedTime: 7.1 seconds RetCode: 0 Status: OK