git_url: https://git.bioconductor.org/packages/ewceData git_branch: RELEASE_3_14 git_last_commit: 16af004 git_last_commit_date: 2021-10-26 12:40:39 -0400 (Tue, 26 Oct 2021) Package: ewceData Version: 1.2.0 Maintainer: Alan Murphy MaintainerEmail: alanmurph94 at hotmail.com