git_url: https://git.bioconductor.org/packages/fibroEset git_branch: RELEASE_3_14 git_last_commit: a68a07f git_last_commit_date: 2021-10-26 11:39:45 -0400 (Tue, 26 Oct 2021) Package: fibroEset Version: 1.36.0 Maintainer: Sylvia Merk MaintainerEmail: merk at ibe.med.uni-muenchen.de