Package: gaschYHS Version: 1.32.0 Command: /home/biocbuild/bbs-3.14-bioc/R/bin/R CMD build --keep-empty-dirs --no-resave-data gaschYHS StartedAt: 2022-04-13 10:23:41 -0400 (Wed, 13 Apr 2022) EndedAt: 2022-04-13 10:23:42 -0400 (Wed, 13 Apr 2022) EllapsedTime: 1.0 seconds RetCode: 0 Status: OK PackageFile: gaschYHS_1.32.0.tar.gz PackageFileSize: 1.305 MiB