git_url: https://git.bioconductor.org/packages/gatingMLData git_branch: RELEASE_3_14 git_last_commit: 986aa33 git_last_commit_date: 2021-10-26 11:39:52 -0400 (Tue, 26 Oct 2021) Package: gatingMLData Version: 2.34.0 Maintainer: J. Spidlen MaintainerEmail: jspidlen at bccrc.ca