Package: hgu133plus2CellScore Version: 1.14.0 Command: /home/biocbuild/bbs-3.14-bioc/R/bin/R CMD check --install=check:hgu133plus2CellScore.install-out.txt --library=/home/biocbuild/bbs-3.14-bioc/R/library --no-vignettes --timings hgu133plus2CellScore_1.14.0.tar.gz StartedAt: 2022-04-13 11:28:40 -0400 (Wed, 13 Apr 2022) EndedAt: 2022-04-13 11:29:08 -0400 (Wed, 13 Apr 2022) EllapsedTime: 27.9 seconds RetCode: 0 Status: WARNINGS CheckDir: hgu133plus2CellScore.Rcheck Warnings: 1