Package: hgu133plus2CellScore Version: 1.14.0 Command: /home/biocbuild/bbs-3.14-bioc/R/bin/R CMD INSTALL hgu133plus2CellScore StartedAt: 2022-04-13 10:01:14 -0400 (Wed, 13 Apr 2022) EndedAt: 2022-04-13 10:01:36 -0400 (Wed, 13 Apr 2022) EllapsedTime: 22.2 seconds RetCode: 0 Status: OK