Package: hgu2beta7 Version: 1.34.0 Command: /home/biocbuild/bbs-3.14-bioc/R/bin/R CMD INSTALL hgu2beta7 StartedAt: 2022-04-13 10:00:47 -0400 (Wed, 13 Apr 2022) EndedAt: 2022-04-13 10:00:49 -0400 (Wed, 13 Apr 2022) EllapsedTime: 1.5 seconds RetCode: 0 Status: OK