git_url: https://git.bioconductor.org/packages/kidpack git_branch: RELEASE_3_14 git_last_commit: 4b144fe git_last_commit_date: 2021-10-26 11:40:41 -0400 (Tue, 26 Oct 2021) Package: kidpack Version: 1.36.0 Maintainer: Wolfgang Huber MaintainerEmail: huber at ebi.ac.uk