Package: kidpack Version: 1.36.0 Command: /home/biocbuild/bbs-3.14-bioc/R/bin/R CMD check --install=check:kidpack.install-out.txt --library=/home/biocbuild/bbs-3.14-bioc/R/library --no-vignettes --timings kidpack_1.36.0.tar.gz StartedAt: 2022-04-13 11:31:22 -0400 (Wed, 13 Apr 2022) EndedAt: 2022-04-13 11:31:47 -0400 (Wed, 13 Apr 2022) EllapsedTime: 25.1 seconds RetCode: 0 Status: WARNINGS CheckDir: kidpack.Rcheck Warnings: 1