git_url: https://git.bioconductor.org/packages/methylclockData git_branch: RELEASE_3_14 git_last_commit: 16e453e git_last_commit_date: 2021-10-26 12:40:01 -0400 (Tue, 26 Oct 2021) Package: methylclockData Version: 1.2.0 Maintainer: Dolors Pelegri-Siso MaintainerEmail: dolors.pelegri at isglobal.org