Package: microRNAome Version: 1.16.0 Command: /home/biocbuild/bbs-3.14-bioc/R/bin/R CMD build --keep-empty-dirs --no-resave-data microRNAome StartedAt: 2022-04-13 10:33:51 -0400 (Wed, 13 Apr 2022) EndedAt: 2022-04-13 10:33:56 -0400 (Wed, 13 Apr 2022) EllapsedTime: 4.3 seconds RetCode: 0 Status: OK PackageFile: microRNAome_1.16.0.tar.gz PackageFileSize: 1.213 MiB