git_url: https://git.bioconductor.org/packages/microbiomeDataSets git_branch: RELEASE_3_14 git_last_commit: 1846a85 git_last_commit_date: 2021-10-26 12:39:54 -0400 (Tue, 26 Oct 2021) Package: microbiomeDataSets Version: 1.2.0 Maintainer: Leo Lahti MaintainerEmail: leo.lahti at iki.fi