git_url: https://git.bioconductor.org/packages/mosaicsExample git_branch: RELEASE_3_14 git_last_commit: 6d3f0f6 git_last_commit_date: 2021-10-26 11:45:47 -0400 (Tue, 26 Oct 2021) Package: mosaicsExample Version: 1.32.0 Maintainer: Dongjun Chung MaintainerEmail: dongjun.chung at gmail.com