Package: msqc1 Version: 1.22.0 Command: /home/biocbuild/bbs-3.14-bioc/R/bin/R CMD build --keep-empty-dirs --no-resave-data msqc1 StartedAt: 2022-04-13 10:34:47 -0400 (Wed, 13 Apr 2022) EndedAt: 2022-04-13 10:35:23 -0400 (Wed, 13 Apr 2022) EllapsedTime: 36.0 seconds RetCode: 0 Status: OK PackageFile: msqc1_1.22.0.tar.gz PackageFileSize: 6.468 MiB