Package: msqc1 Version: 1.22.0 Command: /home/biocbuild/bbs-3.14-bioc/R/bin/R CMD check --install=check:msqc1.install-out.txt --library=/home/biocbuild/bbs-3.14-bioc/R/library --no-vignettes --timings msqc1_1.22.0.tar.gz StartedAt: 2022-04-13 11:37:17 -0400 (Wed, 13 Apr 2022) EndedAt: 2022-04-13 11:37:34 -0400 (Wed, 13 Apr 2022) EllapsedTime: 16.7 seconds RetCode: 0 Status: OK CheckDir: msqc1.Rcheck Warnings: 0