git_url: https://git.bioconductor.org/packages/oct4 git_branch: RELEASE_3_14 git_last_commit: 9c53410 git_last_commit_date: 2021-10-26 12:35:30 -0400 (Tue, 26 Oct 2021) Package: oct4 Version: 1.10.0 Maintainer: Michael Love MaintainerEmail: michaelisaiahlove at gmail.com