Package: oct4 Version: 1.10.0 Command: /home/biocbuild/bbs-3.14-bioc/R/bin/R CMD check --install=check:oct4.install-out.txt --library=/home/biocbuild/bbs-3.14-bioc/R/library --no-vignettes --timings oct4_1.10.0.tar.gz StartedAt: 2022-04-13 11:39:14 -0400 (Wed, 13 Apr 2022) EndedAt: 2022-04-13 11:39:27 -0400 (Wed, 13 Apr 2022) EllapsedTime: 13.3 seconds RetCode: 0 Status: OK CheckDir: oct4.Rcheck Warnings: 0