Package: pd.atdschip.tiling Version: 0.32.0 Command: /home/biocbuild/bbs-3.14-bioc/R/bin/R CMD build --keep-empty-dirs --no-resave-data pd.atdschip.tiling StartedAt: 2022-04-13 10:36:47 -0400 (Wed, 13 Apr 2022) EndedAt: 2022-04-13 10:38:42 -0400 (Wed, 13 Apr 2022) EllapsedTime: 115.1 seconds RetCode: 0 Status: OK PackageFile: pd.atdschip.tiling_0.32.0.tar.gz PackageFileSize: 134.4 MiB