Package: pd.atdschip.tiling Version: 0.32.0 Command: /home/biocbuild/bbs-3.14-bioc/R/bin/R CMD INSTALL pd.atdschip.tiling StartedAt: 2022-04-13 10:02:25 -0400 (Wed, 13 Apr 2022) EndedAt: 2022-04-13 10:02:45 -0400 (Wed, 13 Apr 2022) EllapsedTime: 19.9 seconds RetCode: 0 Status: OK