git_url: https://git.bioconductor.org/packages/plotgardenerData git_branch: RELEASE_3_14 git_last_commit: 9e491c7 git_last_commit_date: 2021-10-26 12:42:55 -0400 (Tue, 26 Oct 2021) Package: plotgardenerData Version: 1.0.0 Maintainer: Nicole Kramer MaintainerEmail: nekramer at live.unc.edu