Package: plotgardenerData Version: 1.0.0 Command: /home/biocbuild/bbs-3.14-bioc/R/bin/R CMD check --install=check:plotgardenerData.install-out.txt --library=/home/biocbuild/bbs-3.14-bioc/R/library --no-vignettes --timings plotgardenerData_1.0.0.tar.gz StartedAt: 2022-04-13 11:40:35 -0400 (Wed, 13 Apr 2022) EndedAt: 2022-04-13 11:40:51 -0400 (Wed, 13 Apr 2022) EllapsedTime: 15.4 seconds RetCode: 0 Status: OK CheckDir: plotgardenerData.Rcheck Warnings: 0