Package: prostateCancerCamcap Version: 1.22.0 Command: /home/biocbuild/bbs-3.14-bioc/R/bin/R CMD build --keep-empty-dirs --no-resave-data prostateCancerCamcap StartedAt: 2022-04-13 10:37:23 -0400 (Wed, 13 Apr 2022) EndedAt: 2022-04-13 10:37:44 -0400 (Wed, 13 Apr 2022) EllapsedTime: 21.4 seconds RetCode: 0 Status: OK PackageFile: prostateCancerCamcap_1.22.0.tar.gz PackageFileSize: 46.85 MiB