git_url: https://git.bioconductor.org/packages/pwrEWAS.data git_branch: RELEASE_3_14 git_last_commit: 560f9f5 git_last_commit_date: 2021-10-26 12:37:07 -0400 (Tue, 26 Oct 2021) Package: pwrEWAS.data Version: 1.8.0 Maintainer: Stefan Graw MaintainerEmail: shgraw at uams.edu