git_url: https://git.bioconductor.org/packages/rRDPData git_branch: RELEASE_3_14 git_last_commit: 6101824 git_last_commit_date: 2021-10-26 12:11:06 -0400 (Tue, 26 Oct 2021) Package: rRDPData Version: 1.14.0 Maintainer: Michael Hahsler MaintainerEmail: mhahsler at lyle.smu.edu