git_url: https://git.bioconductor.org/packages/scATAC.Explorer git_branch: RELEASE_3_14 git_last_commit: 22e4434 git_last_commit_date: 2022-01-25 22:33:27 -0400 (Tue, 25 Jan 2022) Package: scATAC.Explorer Version: 1.0.1 Maintainer: Arrian Gibson-Khademi MaintainerEmail: agibsonk at uwo.ca