Package: scATAC.Explorer Version: 1.0.1 Command: /home/biocbuild/bbs-3.14-bioc/R/bin/R CMD INSTALL scATAC.Explorer StartedAt: 2022-04-13 10:03:12 -0400 (Wed, 13 Apr 2022) EndedAt: 2022-04-13 10:03:31 -0400 (Wed, 13 Apr 2022) EllapsedTime: 18.7 seconds RetCode: 0 Status: OK