git_url: https://git.bioconductor.org/packages/scanMiRData git_branch: RELEASE_3_14 git_last_commit: 7a9f8cf git_last_commit_date: 2021-10-26 12:41:33 -0400 (Tue, 26 Oct 2021) Package: scanMiRData Version: 1.0.0 Maintainer: Fridolin Gross MaintainerEmail: fridolin.gross at hest.ethz.ch