git_url: https://git.bioconductor.org/packages/scpdata git_branch: RELEASE_3_14 git_last_commit: c5ba748 git_last_commit_date: 2021-10-26 12:39:46 -0400 (Tue, 26 Oct 2021) Package: scpdata Version: 1.2.0 Maintainer: Christophe Vanderaa MaintainerEmail: christophe.vanderaa at uclouvain.be