git_url: https://git.bioconductor.org/packages/sesameData git_branch: RELEASE_3_14 git_last_commit: ac2277b git_last_commit_date: 2021-10-26 12:32:27 -0400 (Tue, 26 Oct 2021) Package: sesameData Version: 1.12.0 Maintainer: Wanding Zhou MaintainerEmail: zhouwanding at gmail.com